BEGIN:VCALENDAR
VERSION:2.0
PRODID:-//Squarespace Inc/Squarespace 6//v6//EN
BEGIN:VEVENT
UID:5d5f6565354771000169a93d@squarespace.com
DTSTAMP:20200901T043725Z
DTSTART:20130221T033000Z
DTEND:20220721T053000Z
SUMMARY:Annie's Lemon Zucchini Cake
END:VEVENT
END:VCALENDAR
