BEGIN:VCALENDAR
VERSION:2.0
PRODID:-//Squarespace Inc/Squarespace 6//v6//EN
BEGIN:VEVENT
UID:5d5f44485781760001615327@squarespace.com
DTSTAMP:20200901T062951Z
DTSTART:20131130T010000Z
DTEND:20240528T030000Z
SUMMARY:Annie's Swiss Chard\, Onion\, and Pine Nut Tart
END:VEVENT
END:VCALENDAR
